BEGIN:VCALENDAR
VERSION:2.0
PRODID:-//Eventin//Event Calendar//EN
CALSCALE:GREGORIAN
METHOD:PUBLISH
BEGIN:VEVENT
UID:f39f76d0f2f71214b6264b155ccaadf6@medclub.md
SUMMARY:Cum îngrijim alergiile și astmul? Ediția a 4-a
DESCRIPTION: Cum îngrijim alergiile și astmul - ediția 4-a\n \n\nReven
 im cu o nouă ediție dedicată sănătății respiratorii - mai actuală\,
  mai practică și mai conectată la realitățile de azi.\nAducem în prim
 -plan noutăți din domeniu\, discutate alături de specialiști care vor 
 împărtăși informații relevante și aplicate - atât pentru profesioni
 ști din domeniul medical\, cât și pentru pacienți.\nAlături de noi vor
  fi specialiști dornici să împărtășească perspective actuale și rec
 omandări practice\, printre care alergolog pediatru\, pneumolog\, psiholog
  clinician\, dar și alți speakeri invitați.\n \n Ce te așteaptă:• 
 informații actualizate despre alergii și astm• abordări moderne de dia
 gnostic și tratament• discuții deschise cu experți• recomandări uti
 le pentru viața de zi cu zi\n \n Un eveniment pentru cei care vor să î
 nțeleagă mai bine\, să prevină și să gestioneze corect aceste afecți
 uni.\n \nLocurile sunt limitate - rezervă-ți locul din timp! 
LOCATION:Digital Park. Mihai Viteazul\, 15\, Chisinau
DTSTAMP:20260421T130126Z
DTSTART:20260517T080000Z
DTEND:20260517T140000Z
END:VEVENT
END:VCALENDAR
