BEGIN:VCALENDAR
VERSION:2.0
PRODID:-//Eventin//Event Calendar//EN
CALSCALE:GREGORIAN
METHOD:PUBLISH
BEGIN:VEVENT
UID:7415825f980a7094c7cabca4df9f995b@medclub.md
SUMMARY:🩺 КУРС ПЕРВОЙ ПОМОЩИ
DESCRIPTION: \nКУРС ПЕРВОЙ ПОМОЩИ\n 16 мая Начал
 о в 10:00Приглашаем вас на практический кур
 с первой помощи\, где вы научитесь правил
 ьно действовать в экстренных ситуациях д
 о прибытия скорой помощи. Что вы узнаете:
  • как оказывать первую помощь при потер
 е сознания • действия при остановке дых
 ания и сердца • помощь при кровотечения
 х\, травмах и ожогах • алгоритм действий 
 в неотложных состоянияхКурс подходит дл
 я всех — родителей\, учителей\, водителей\
 , сотрудников компаний и всех\, кто хочет 
 быть готов помочь и спасти жизнь. Курс пр
 оводит врач Количество мест ограничено 
 Для регистрации и подробной информации 
 — пишите в личные сообщения.Первая помощ
 ь — это знание\, которое может спасти жиз
 нь!
LOCATION:Centrul Municipal de Învățare și Educație a Adulților. Str. 
 Matei Basarab 14\, Chisinau
DTSTAMP:20260421T113532Z
DTSTART:20260516T070000Z
DTEND:20260516T090000Z
END:VEVENT
END:VCALENDAR
