BEGIN:VCALENDAR
VERSION:2.0
PRODID:-//Eventin//Event Calendar//EN
CALSCALE:GREGORIAN
METHOD:PUBLISH
BEGIN:VEVENT
UID:2dbadc675b1117b3123abdfc24ae3678@medclub.md
SUMMARY:Cum îngrijim alergiile și astmul? 2.0
DESCRIPTION:[etn_pro_ticket_form id = 5243 show_title='no']\n\n\n\n\n\n\n\n
 Știați că în 2025 jumătate de populație va avea o manifestare alergic
 ă?\n\n\n\nÎn prezent alergiile sunt privite cu mai multă prudență\, ia
 r oamenii au înțeles că o alergie netratată poate aduce complicații.\n
 \n\n\nDacă vrei să cunoști cauzele apariției \, manifestări dar și cu
 m acționăm într-o alergie și astm bronșic te așteptăm pe18 MAI la ce
 a de a doua ediție !\n\n\n\nAlergiile respiratorii în mod special creeaz
 ă un disconfort accentuat.\n\n\n\nCalitatea vieții este mult afectată\, 
 atât la adulți cît și copii.\n\n\n\nMiturile despre alergii și astm ci
 rculă printre pacienți ca polenul de primăvară/vară.\n\n\n\nIată de c
 e ne-am propus să organizăm un eveniment util pentru TINE!\n\n\n\nEdiția
  a 2-a !!\n\n\n\nCând? 18 MAIUnde ? Biblioteca națională a Republicii Mo
 ldova / Str 31 august 1989 78ACine? Speakeri gazdă sunt dr.pneumolog Olimp
 ia Gherman și dr.alergolog pediatru Olesea Nicu\, dr Aurelia Avram medic d
 e familie .\n\n\n\nDeoarece ne dorim o continuitate a evenimentelor "sănă
 toase"\, contribuția fiecărui participant este de 300 lei.\n\n\n\nPrin no
 i\, contribuția ta/dvs va ajunge la un caz de caritate pe care-l sustine F
 undația MedClub\n\n\n\nO parte din bani vor fi direcționați pentru a aju
 ta o familie să depășească o problemă de sănătate!
LOCATION:Biblioteca Naţională a Republicii Moldova
DTSTAMP:20260421T143213Z
DTSTART:20240518T080000Z
DTEND:20260421T110000Z
END:VEVENT
END:VCALENDAR
