BEGIN:VCALENDAR
VERSION:2.0
PRODID:-//Eventin//Event Calendar//EN
CALSCALE:GREGORIAN
METHOD:PUBLISH
BEGIN:VEVENT
UID:83f8136c5fd09cc9fbc25fed305c2459@medclub.md
SUMMARY:Primul Ajutor - ESENȚIAL
DESCRIPTION:[etn_pro_ticket_form id = 4763 show_title='no']\n\n\n\n\n\n\n\n
 Viața este una imprevizibilă și situații de urgență pot apărea oric
 ând. O intervenție făcută corect în primele momente poate face diferen
 ță între viață și moarte.\n\n\n\nȘtii cum să procedezi corect dacă
 :\n\n\n\n❓ un matur sau un copil din preajma ta s-a înecat cu mîncare?\
 n\n\n\n❓ vezi o persoană care brusc și-a pierdut cunoștință?\n\n\n\n
 ❓ ai o tăietură cu hemoragie puternică?\n\n\n\n❓ ai suferit o arsur
 ă?\n\n\n\nManevrele de prim ajutor sunt vitale\, doar că puțini oameni 
 știu ce să facă.\n\n\n\nDe aceea\, pe data de 29 mai 2024\, platforma de
  educație pentru sănătate “MedClub” te invită la un curs avansat de
  prim ajutor premedical\, unde vei învăța:\n\n\n\n✅ Noțiuni de prim a
 jutor. Suportul Vital Bazal.\n\n\n\n✅ Examenul primar și măsuri iniția
 le de prim ajutor.\n\n\n\n✅ Siguranța personală.\n\n\n\n✅ Manevre de 
 dezobstructie a  căilor  respiratorii superioare la adulți și copii.\n
 \n\n\n✅ Plagile si hemoragiile- manevre de prim ajutor.\n\n\n\n✅ Convul
 siile\, măsuri de prim-ajutor.\n\n\n\n✅ Pacientul inconștient\, poziți
 a laterală de siguranță.\n\n\n\n✅ Atac de cord  cum recunoaștem\, m
 ăsuri urgențe.\n\n\n\n✅ Atac vascular cerebral cum recunoaștem\, ce fa
 cem în primele ore.\n\n\n\n✅ Atelier practice cu manevre practice\, disc
 uții de caz.\n\n\n\nTimp de 3 ore vei învăța cum să acționezi corect 
 într-o situație de urgență!❤️\n\n\n\nLocația Evenimentului - Media
 Cor\n\n\n\nPentru mai multe detalii - 📲 +373 60 592 221
LOCATION:Online
DTSTAMP:20260421T112517Z
DTSTART:20240529T143000Z
DTEND:20260421T173000Z
END:VEVENT
END:VCALENDAR
