BEGIN:VCALENDAR
VERSION:2.0
PRODID:-//Eventin//Event Calendar//EN
CALSCALE:GREGORIAN
METHOD:PUBLISH
BEGIN:VEVENT
UID:7c1368817e8f376ded973627e972ad84@medclub.md
SUMMARY:Что вы знаете о дыхательной системе 
 и вирусных инфекциях?
DESCRIPTION:[etn_pro_ticket_form id = 4708 show_title='no']\n\n\n\n \n\n\n
 \n\n\n\n\n\n\n\n\nРеспираторные инфекции являют
 ся одними из наиболее частых заболеваний
 \, возникающих у взрослых и детей.\n\n\n\nОни 
 часто безвредны\, но иногда рецидив или с
 охранение респираторной инфекции может 
 быть признаком более серьезного заболев
 ания.\n\n\n\nПоэтому в таких ситуациях реком
 ендуется обратиться к врачу.\n\n\n\nВрач-пул
 ьмонолог Олимпия Герман и ЛОР-врач Светл
 ана Постовая организуют оффлайн\, в котор
 ом обсудят самые популярные мифы\, связан
 ные с респираторными инфекциями.\n\n\n\nМер
 оприятие состоится 21 октября в 11:00 в Digital P
 ark.\n\n\n\nСтоимость билета 250 лей. Подробнос
 ти по телефону 060592221. 
LOCATION:Digital Park. Mihai Viteazul\, 15\, Chișinău
DTSTAMP:20260421T143213Z
DTSTART:20231021T080000Z
DTEND:20260421T110000Z
END:VEVENT
END:VCALENDAR
